BEGIN:VCALENDAR
VERSION:2.0
PRODID:-//The Arc of Greater Haverhill - Newburyport - ECPv6.15.12.2//NONSGML v1.0//EN
CALSCALE:GREGORIAN
METHOD:PUBLISH
X-WR-CALNAME:The Arc of Greater Haverhill - Newburyport
X-ORIGINAL-URL:https://www.thearcofghn.org
X-WR-CALDESC:Events for The Arc of Greater Haverhill - Newburyport
REFRESH-INTERVAL;VALUE=DURATION:PT1H
X-Robots-Tag:noindex
X-PUBLISHED-TTL:PT1H
BEGIN:VTIMEZONE
TZID:America/New_York
BEGIN:DAYLIGHT
TZOFFSETFROM:-0500
TZOFFSETTO:-0400
TZNAME:EDT
DTSTART:20220313T070000
END:DAYLIGHT
BEGIN:STANDARD
TZOFFSETFROM:-0400
TZOFFSETTO:-0500
TZNAME:EST
DTSTART:20221106T060000
END:STANDARD
BEGIN:DAYLIGHT
TZOFFSETFROM:-0500
TZOFFSETTO:-0400
TZNAME:EDT
DTSTART:20230312T070000
END:DAYLIGHT
BEGIN:STANDARD
TZOFFSETFROM:-0400
TZOFFSETTO:-0500
TZNAME:EST
DTSTART:20231105T060000
END:STANDARD
BEGIN:DAYLIGHT
TZOFFSETFROM:-0500
TZOFFSETTO:-0400
TZNAME:EDT
DTSTART:20240310T070000
END:DAYLIGHT
BEGIN:STANDARD
TZOFFSETFROM:-0400
TZOFFSETTO:-0500
TZNAME:EST
DTSTART:20241103T060000
END:STANDARD
END:VTIMEZONE
BEGIN:VEVENT
DTSTART;TZID=America/New_York:20230613T183000
DTEND;TZID=America/New_York:20230613T193000
DTSTAMP:20260424T042523
CREATED:20230526T172938Z
LAST-MODIFIED:20230526T172938Z
UID:65636-1686681000-1686684600@www.thearcofghn.org
SUMMARY:Story Telling w/Patrick - “Harry Potter”
DESCRIPTION:
URL:https://www.thearcofghn.org/event/story-telling-w-patrick-harry-potter-6/
CATEGORIES:Recreation
ORGANIZER;CN="Neala Mercier":MAILTO:neala.mercier@www.thearcofghn.org
END:VEVENT
BEGIN:VEVENT
DTSTART;TZID=America/New_York:20230613T100000
DTEND;TZID=America/New_York:20230613T110000
DTSTAMP:20260424T042523
CREATED:20230526T175550Z
LAST-MODIFIED:20230526T175550Z
UID:65693-1686650400-1686654000@www.thearcofghn.org
SUMMARY:Transition Coffee Hour
DESCRIPTION:Click here to register: https://us06web.zoom.us/meeting/register/tJIuf-mqqzwtHte3YHlJFpUn6Yi8TnudaXyW#/registration
URL:https://www.thearcofghn.org/event/transition-coffee-hour/
CATEGORIES:Family Support Center
ORGANIZER;CN="Andrea Morris":MAILTO:amorris@www.thearcofghn.org
END:VEVENT
BEGIN:VEVENT
DTSTART;TZID=America/New_York:20230612T180000
DTEND;TZID=America/New_York:20230612T193000
DTSTAMP:20260424T042523
CREATED:20230526T152942Z
LAST-MODIFIED:20230526T152942Z
UID:65633-1686592800-1686598200@www.thearcofghn.org
SUMMARY:Bowling - Haverhill
DESCRIPTION:
URL:https://www.thearcofghn.org/event/bowling-haverhill-2/
LOCATION:Academy Lanes\, 725 S Main St\, Bradford\, MA\, 01835
CATEGORIES:Recreation
ORGANIZER;CN="Neala Mercier":MAILTO:neala.mercier@www.thearcofghn.org
END:VEVENT
BEGIN:VEVENT
DTSTART;TZID=America/New_York:20230612T160000
DTEND;TZID=America/New_York:20230612T170000
DTSTAMP:20260424T042523
CREATED:20230526T152850Z
LAST-MODIFIED:20230526T152850Z
UID:65630-1686585600-1686589200@www.thearcofghn.org
SUMMARY:Game Time - Bingo
DESCRIPTION:
URL:https://www.thearcofghn.org/event/game-time-bingo/
CATEGORIES:Recreation
ORGANIZER;CN="Neala Mercier":MAILTO:neala.mercier@www.thearcofghn.org
END:VEVENT
BEGIN:VEVENT
DTSTART;TZID=America/New_York:20230610T110000
DTEND;TZID=America/New_York:20230610T120000
DTSTAMP:20260424T042523
CREATED:20230526T152626Z
LAST-MODIFIED:20230526T152626Z
UID:65627-1686394800-1686398400@www.thearcofghn.org
SUMMARY:Lunch Hour Live w/Diane
DESCRIPTION:Crockpot Italian Chicken Soup
URL:https://www.thearcofghn.org/event/lunch-hour-live-w-diane-2/
CATEGORIES:Recreation
ORGANIZER;CN="Neala Mercier":MAILTO:neala.mercier@www.thearcofghn.org
END:VEVENT
BEGIN:VEVENT
DTSTART;TZID=America/New_York:20230608T133000
DTEND;TZID=America/New_York:20230608T150000
DTSTAMP:20260424T042523
CREATED:20230526T152524Z
LAST-MODIFIED:20230526T152524Z
UID:65624-1686231000-1686236400@www.thearcofghn.org
SUMMARY:The Studio Newburyport
DESCRIPTION:
URL:https://www.thearcofghn.org/event/the-studio-newburyport-6/
LOCATION:The Studio Newburyport\, 76 State St\, Newburyport\, MA\, 01950
CATEGORIES:Recreation
ORGANIZER;CN="Neala Mercier":MAILTO:neala.mercier@www.thearcofghn.org
END:VEVENT
BEGIN:VEVENT
DTSTART;TZID=America/New_York:20230607T183000
DTEND;TZID=America/New_York:20230607T200000
DTSTAMP:20260424T042523
CREATED:20230526T132540Z
LAST-MODIFIED:20230526T132540Z
UID:65591-1686162600-1686168000@www.thearcofghn.org
SUMMARY:Family Support Advisory Council
DESCRIPTION:
URL:https://www.thearcofghn.org/event/family-support-advisory-council/
CATEGORIES:Family Support Center
ORGANIZER;CN="Andrea Morris":MAILTO:amorris@www.thearcofghn.org
END:VEVENT
BEGIN:VEVENT
DTSTART;TZID=America/New_York:20230607T163000
DTEND;TZID=America/New_York:20230607T180000
DTSTAMP:20260424T042523
CREATED:20230526T152429Z
LAST-MODIFIED:20230526T152429Z
UID:65621-1686155400-1686160800@www.thearcofghn.org
SUMMARY:Bowling - Amesbury
DESCRIPTION:
URL:https://www.thearcofghn.org/event/bowling-amesbury/
LOCATION:GameTime\, 84 Haverhill Rd\, Amesbury\, MA\, 01913
CATEGORIES:Recreation
ORGANIZER;CN="Neala Mercier":MAILTO:neala.mercier@www.thearcofghn.org
END:VEVENT
BEGIN:VEVENT
DTSTART;TZID=America/New_York:20230606T183000
DTEND;TZID=America/New_York:20230606T193000
DTSTAMP:20260424T042523
CREATED:20230526T152134Z
LAST-MODIFIED:20230526T152134Z
UID:65614-1686076200-1686079800@www.thearcofghn.org
SUMMARY:Story Telling w/Patrick - “Harry Potter”
DESCRIPTION:
URL:https://www.thearcofghn.org/event/story-telling-w-patrick-harry-potter-5/
CATEGORIES:Recreation
ORGANIZER;CN="Neala Mercier":MAILTO:neala.mercier@www.thearcofghn.org
END:VEVENT
BEGIN:VEVENT
DTSTART;TZID=America/New_York:20230606T160000
DTEND;TZID=America/New_York:20230606T173000
DTSTAMP:20260424T042523
CREATED:20230526T152334Z
LAST-MODIFIED:20230526T152334Z
UID:65617-1686067200-1686072600@www.thearcofghn.org
SUMMARY:Walk n’ Roll the Rail Trail - Newburyport
DESCRIPTION:
URL:https://www.thearcofghn.org/event/walk-n-roll-the-rail-trail-newburyport/
LOCATION:The Tannery\, 75 Water Street\, Newburyport\, MA\, 01950
CATEGORIES:Recreation
ORGANIZER;CN="Neala Mercier":MAILTO:neala.mercier@www.thearcofghn.org
END:VEVENT
BEGIN:VEVENT
DTSTART;TZID=America/New_York:20230605T180000
DTEND;TZID=America/New_York:20230605T193000
DTSTAMP:20260424T042523
CREATED:20230526T152045Z
LAST-MODIFIED:20230526T152045Z
UID:65611-1685988000-1685993400@www.thearcofghn.org
SUMMARY:Bowling - Haverhill
DESCRIPTION:
URL:https://www.thearcofghn.org/event/bowling-haverhill/
LOCATION:Academy Lanes\, 725 S Main St\, Bradford\, MA\, 01835
CATEGORIES:Recreation
ORGANIZER;CN="Neala Mercier":MAILTO:neala.mercier@www.thearcofghn.org
END:VEVENT
BEGIN:VEVENT
DTSTART;TZID=America/New_York:20230605T160000
DTEND;TZID=America/New_York:20230605T170000
DTSTAMP:20260424T042523
CREATED:20230526T151953Z
LAST-MODIFIED:20230526T151953Z
UID:65608-1685980800-1685984400@www.thearcofghn.org
SUMMARY:Game Time - Mad Libs
DESCRIPTION:
URL:https://www.thearcofghn.org/event/game-time-mad-libs-2/
CATEGORIES:Recreation
ORGANIZER;CN="Neala Mercier":MAILTO:neala.mercier@www.thearcofghn.org
END:VEVENT
BEGIN:VEVENT
DTSTART;TZID=America/New_York:20230603T110000
DTEND;TZID=America/New_York:20230603T120000
DTSTAMP:20260424T042524
CREATED:20230526T145625Z
LAST-MODIFIED:20230526T145625Z
UID:65606-1685790000-1685793600@www.thearcofghn.org
SUMMARY:Learn to Loop Knit with Neala
DESCRIPTION:
URL:https://www.thearcofghn.org/event/learn-to-loop-knit-with-neala/
CATEGORIES:Recreation
ORGANIZER;CN="Neala Mercier":MAILTO:neala.mercier@www.thearcofghn.org
END:VEVENT
BEGIN:VEVENT
DTSTART;TZID=America/New_York:20230602T180000
DTEND;TZID=America/New_York:20230602T220000
DTSTAMP:20260424T042524
CREATED:20230508T144024Z
LAST-MODIFIED:20230508T145336Z
UID:65386-1685728800-1685743200@www.thearcofghn.org
SUMMARY:The Candlelight Ball “Better Together”
DESCRIPTION:
URL:https://www.thearcofghn.org/event/the-candlelight-ball/
LOCATION:Michael’s Function Hall\, 12 Alpha Street\, Haverhill\, MA\, 01832
CATEGORIES:Arc Events
ORGANIZER;CN="The Arc of Greater Haverhill-Newburyport":MAILTO:info@thearcofghn.com
END:VEVENT
BEGIN:VEVENT
DTSTART;TZID=America/New_York:20230601T160000
DTEND;TZID=America/New_York:20230601T170000
DTSTAMP:20260424T042524
CREATED:20230508T162215Z
LAST-MODIFIED:20230508T162215Z
UID:65496-1685635200-1685638800@www.thearcofghn.org
SUMMARY:Peer Support Advisory Committee Meeting
DESCRIPTION:
URL:https://www.thearcofghn.org/event/peer-support-advisory-committee-meeting/
CATEGORIES:Peer Support,Webinars/Meetings
ORGANIZER;CN="Bridget Crowley":MAILTO:bcrowley@www.thearcofghn.org
END:VEVENT
BEGIN:VEVENT
DTSTART;TZID=America/New_York:20230601T133000
DTEND;TZID=America/New_York:20230601T150000
DTSTAMP:20260424T042524
CREATED:20230526T145457Z
LAST-MODIFIED:20230526T145511Z
UID:65603-1685626200-1685631600@www.thearcofghn.org
SUMMARY:The Studio Newburyport
DESCRIPTION:
URL:https://www.thearcofghn.org/event/the-studio-newburyport-5/
LOCATION:The Studio Newburyport\, 76 State St\, Newburyport\, MA\, 01950
CATEGORIES:Recreation
END:VEVENT
BEGIN:VEVENT
DTSTART;TZID=America/New_York:20230601T120000
DTEND;TZID=America/New_York:20230601T130000
DTSTAMP:20260424T042524
CREATED:20230526T175042Z
LAST-MODIFIED:20230526T175042Z
UID:65679-1685620800-1685624400@www.thearcofghn.org
SUMMARY:Self Direction Networking Meeting
DESCRIPTION:Click here to register: https://us06web.zoom.us/meeting/register/tJEtcuqoqD8qGdTHxgbgrhZ70OjsdUyQc9At#/registration \n 
URL:https://www.thearcofghn.org/event/self-direction-networking-meeting/
CATEGORIES:Family Support Center
ORGANIZER;CN="Andrea Morris":MAILTO:amorris@www.thearcofghn.org
END:VEVENT
BEGIN:VEVENT
DTSTART;TZID=America/New_York:20230531T163000
DTEND;TZID=America/New_York:20230531T180000
DTSTAMP:20260424T042524
CREATED:20230508T162023Z
LAST-MODIFIED:20230508T162023Z
UID:65492-1685550600-1685556000@www.thearcofghn.org
SUMMARY:Bowling - 10 Pin
DESCRIPTION:
URL:https://www.thearcofghn.org/event/bowling-10-pin-2/
LOCATION:GameTime\, 84 Haverhill Rd\, Amesbury\, MA\, 01913
CATEGORIES:Recreation
ORGANIZER;CN="Neala Mercier":MAILTO:neala.mercier@www.thearcofghn.org
END:VEVENT
BEGIN:VEVENT
DTSTART;TZID=America/New_York:20230530T183000
DTEND;TZID=America/New_York:20230530T193000
DTSTAMP:20260424T042524
CREATED:20230508T161719Z
LAST-MODIFIED:20230508T161719Z
UID:65484-1685471400-1685475000@www.thearcofghn.org
SUMMARY:Story Telling w/Patrick “Harry Potter”
DESCRIPTION:
URL:https://www.thearcofghn.org/event/story-telling-w-patrick-harry-potter-4/
CATEGORIES:Recreation
ORGANIZER;CN="Neala Mercier":MAILTO:neala.mercier@www.thearcofghn.org
END:VEVENT
BEGIN:VEVENT
DTSTART;VALUE=DATE:20230530
DTEND;VALUE=DATE:20230531
DTSTAMP:20260424T042524
CREATED:20230508T161916Z
LAST-MODIFIED:20230508T161916Z
UID:65487-1685404800-1685491199@www.thearcofghn.org
SUMMARY:Movie Day -"The Little Mermaid"
DESCRIPTION:Time TBD!
URL:https://www.thearcofghn.org/event/movie-day-the-little-mermaid/
LOCATION:Vision Max\, 201 Elm Street\, Salisbury\, MA\, 01952
CATEGORIES:Recreation
ORGANIZER;CN="Neala Mercier":MAILTO:neala.mercier@www.thearcofghn.org
END:VEVENT
BEGIN:VEVENT
DTSTART;TZID=America/New_York:20230525T133000
DTEND;TZID=America/New_York:20230525T150000
DTSTAMP:20260424T042524
CREATED:20230508T161630Z
LAST-MODIFIED:20230508T161630Z
UID:65480-1685021400-1685026800@www.thearcofghn.org
SUMMARY:The Studio Newburyport
DESCRIPTION:
URL:https://www.thearcofghn.org/event/the-studio-newburyport-4/
LOCATION:The Studio Newburyport\, 76 State St\, Newburyport\, MA\, 01950
CATEGORIES:Recreation
ORGANIZER;CN="Neala Mercier":MAILTO:neala.mercier@www.thearcofghn.org
END:VEVENT
BEGIN:VEVENT
DTSTART;TZID=America/New_York:20230524T183000
DTEND;TZID=America/New_York:20230524T193000
DTSTAMP:20260424T042524
CREATED:20230508T161529Z
LAST-MODIFIED:20230508T161529Z
UID:65477-1684953000-1684956600@www.thearcofghn.org
SUMMARY:Yoga with Liz
DESCRIPTION:
URL:https://www.thearcofghn.org/event/yoga-with-liz/
CATEGORIES:Recreation
ORGANIZER;CN="Neala Mercier":MAILTO:neala.mercier@www.thearcofghn.org
END:VEVENT
BEGIN:VEVENT
DTSTART;TZID=America/New_York:20230524T163000
DTEND;TZID=America/New_York:20230524T180000
DTSTAMP:20260424T042524
CREATED:20230508T161434Z
LAST-MODIFIED:20230508T161434Z
UID:65473-1684945800-1684951200@www.thearcofghn.org
SUMMARY:Bowling - Candlepin
DESCRIPTION:
URL:https://www.thearcofghn.org/event/bowling-candlepin-2/
LOCATION:GameTime\, 84 Haverhill Rd\, Amesbury\, MA\, 01913
CATEGORIES:Recreation
ORGANIZER;CN="Neala Mercier":MAILTO:neala.mercier@www.thearcofghn.org
END:VEVENT
BEGIN:VEVENT
DTSTART;TZID=America/New_York:20230523T183000
DTEND;TZID=America/New_York:20230523T193000
DTSTAMP:20260424T042524
CREATED:20230508T161319Z
LAST-MODIFIED:20230508T161319Z
UID:65470-1684866600-1684870200@www.thearcofghn.org
SUMMARY:Story Telling w/Patrick “Harry Potter”
DESCRIPTION:
URL:https://www.thearcofghn.org/event/story-telling-w-patrick-harry-potter-3/
CATEGORIES:Recreation
ORGANIZER;CN="Neala Mercier":MAILTO:neala.mercier@www.thearcofghn.org
END:VEVENT
BEGIN:VEVENT
DTSTART;TZID=America/New_York:20230522T180000
DTEND;TZID=America/New_York:20230522T193000
DTSTAMP:20260424T042524
CREATED:20230508T161230Z
LAST-MODIFIED:20230508T161230Z
UID:65466-1684778400-1684783800@www.thearcofghn.org
SUMMARY:Bowling
DESCRIPTION:
URL:https://www.thearcofghn.org/event/bowling-3/
LOCATION:Academy Lanes\, 725 S Main St\, Bradford\, MA\, 01835
CATEGORIES:Recreation
ORGANIZER;CN="Neala Mercier":MAILTO:neala.mercier@www.thearcofghn.org
END:VEVENT
BEGIN:VEVENT
DTSTART;TZID=America/New_York:20230522T160000
DTEND;TZID=America/New_York:20230522T170000
DTSTAMP:20260424T042524
CREATED:20230508T161116Z
LAST-MODIFIED:20230508T161116Z
UID:65463-1684771200-1684774800@www.thearcofghn.org
SUMMARY:Game Time - Mad Libs
DESCRIPTION:
URL:https://www.thearcofghn.org/event/game-time-mad-libs/
CATEGORIES:Recreation
ORGANIZER;CN="Neala Mercier":MAILTO:neala.mercier@www.thearcofghn.org
END:VEVENT
BEGIN:VEVENT
DTSTART;TZID=America/New_York:20230519T180000
DTEND;TZID=America/New_York:20230519T200000
DTSTAMP:20260424T042524
CREATED:20230508T161029Z
LAST-MODIFIED:20230508T161029Z
UID:65459-1684519200-1684526400@www.thearcofghn.org
SUMMARY:Arc Dance - "Beach Party"
DESCRIPTION:
URL:https://www.thearcofghn.org/event/arc-dance-beach-party/
LOCATION:Haverhill Citizen’s Center\, 10 Welcome Street\, Haverhill\, MA\, 01830
CATEGORIES:Recreation
ORGANIZER;CN="Neala Mercier":MAILTO:neala.mercier@www.thearcofghn.org
END:VEVENT
BEGIN:VEVENT
DTSTART;TZID=America/New_York:20230518T133000
DTEND;TZID=America/New_York:20230518T150000
DTSTAMP:20260424T042524
CREATED:20230508T160840Z
LAST-MODIFIED:20230508T160840Z
UID:65455-1684416600-1684422000@www.thearcofghn.org
SUMMARY:The Studio Newburyport
DESCRIPTION:
URL:https://www.thearcofghn.org/event/the-studio-newburyport-3/
LOCATION:The Studio Newburyport\, 76 State St\, Newburyport\, MA\, 01950
CATEGORIES:Recreation
ORGANIZER;CN="Neala Mercier":MAILTO:neala.mercier@www.thearcofghn.org
END:VEVENT
BEGIN:VEVENT
DTSTART;TZID=America/New_York:20230517T163000
DTEND;TZID=America/New_York:20230517T180000
DTSTAMP:20260424T042524
CREATED:20230508T160719Z
LAST-MODIFIED:20230508T160719Z
UID:65451-1684341000-1684346400@www.thearcofghn.org
SUMMARY:Bowling - 10 Pin
DESCRIPTION:
URL:https://www.thearcofghn.org/event/bowling-10-pin/
LOCATION:GameTime\, 84 Haverhill Rd\, Amesbury\, MA\, 01913
CATEGORIES:Recreation
ORGANIZER;CN="Neala Mercier":MAILTO:neala.mercier@www.thearcofghn.org
END:VEVENT
BEGIN:VEVENT
DTSTART;TZID=America/New_York:20230516T183000
DTEND;TZID=America/New_York:20230516T193000
DTSTAMP:20260424T042524
CREATED:20230508T160338Z
LAST-MODIFIED:20230508T160338Z
UID:65445-1684261800-1684265400@www.thearcofghn.org
SUMMARY:Story Telling w/Patrick “Harry Potter”
DESCRIPTION:
URL:https://www.thearcofghn.org/event/story-telling-w-patrick-harry-potter-2/
CATEGORIES:Recreation
ORGANIZER;CN="Neala Mercier":MAILTO:neala.mercier@www.thearcofghn.org
END:VEVENT
END:VCALENDAR